BEGIN:VCALENDAR
VERSION:2.0
PRODID:-//Darpass - Your pass to Tech Armenia - ECPv6.15.17.1//NONSGML v1.0//EN
CALSCALE:GREGORIAN
METHOD:PUBLISH
X-WR-CALNAME:Darpass - Your pass to Tech Armenia
X-ORIGINAL-URL:https://darpass.com
X-WR-CALDESC:Events for Darpass - Your pass to Tech Armenia
REFRESH-INTERVAL;VALUE=DURATION:PT1H
X-Robots-Tag:noindex
X-PUBLISHED-TTL:PT1H
BEGIN:VTIMEZONE
TZID:Asia/Dubai
BEGIN:STANDARD
TZOFFSETFROM:+0400
TZOFFSETTO:+0400
TZNAME:+04
DTSTART:20250101T000000
END:STANDARD
END:VTIMEZONE
BEGIN:VEVENT
DTSTART;TZID=Asia/Dubai:20260328T120000
DTEND;TZID=Asia/Dubai:20260328T140000
DTSTAMP:20260420T041709
CREATED:20260320T085016Z
LAST-MODIFIED:20260324T103605Z
UID:4465-1774699200-1774706400@darpass.com
SUMMARY:ARDY Academy Public Talk #3
DESCRIPTION:Beyond standard paywalls & situational marketing | ARDY Academy Public Talk #3 \nDiscover how small\, smart\, and creative marketing ideas can significantly change business outcomes. This is not a theoretical lecture\, but a discussion of real experiences and examples showing what truly works in digital marketing today. \nIn a world shaped by user behavior and market competition\, small mistakes or delays can lead to lost revenue\, while the right\, timely creative actions can directly boost brand visibility and sales. \nJoin the event to explore and discuss how small\, smart ideas can create a big impact for your business. \nTarget audience \n\nMarketing professionals and anyone interested in marketing\, students\, starters and professionals\nCompany founders\, leaders\nSMM and content creators\nThose interested in growth and product marketing\nAnd anyone who wants to understand how small\, creative ideas can deliver big results\n\nTopics:\nBeyond the Standard App Paywalls [case study] \nHow a 10-second meme animation changed the way a crypto app sells premium subscriptions. This case study breaks down the strategy\, the results\, and why it worked. \nSituational Marketing and Newsjacking [case study] \nReal case studies of situational marketing and newsjacking in both local and growth markets. Packed with practical examples showing how these tactics can directly impact revenue. \nMarch 28\n12:00 PM – 2:15 PM\nWoods Center\nFree entry\, participation requires registration \nAbout ARDY Public Talks\nARDY Public Talks is a series of open meetings and discussions with professionals from various fields. This format is one of our ways to engage with the community and aims to be accessible\, useful\, and practical. It also serves as a platform for exchanging experiences among professionals from different industries. \n  \nFind more tech events happening in Armenia here
URL:https://darpass.com/event/ardy-academy-public-talk-3/
LOCATION:Woods Center\, Near Jrvezh forest Park\, Jrvezh\, Kotayk
CATEGORIES:Tech Events In Armenia,Workshops/Lessons
ATTACH;FMTTYPE=image/png:https://darpass.com/wp-content/uploads/2026/03/ARDY-Academy-Public-Talks-3-scaled.png
END:VEVENT
END:VCALENDAR