BEGIN:VCALENDAR
VERSION:2.0
PRODID:-//Darpass - Your pass to Tech Armenia - ECPv6.15.17.1//NONSGML v1.0//EN
CALSCALE:GREGORIAN
METHOD:PUBLISH
X-WR-CALNAME:Darpass - Your pass to Tech Armenia
X-ORIGINAL-URL:https://darpass.com
X-WR-CALDESC:Events for Darpass - Your pass to Tech Armenia
REFRESH-INTERVAL;VALUE=DURATION:PT1H
X-Robots-Tag:noindex
X-PUBLISHED-TTL:PT1H
BEGIN:VTIMEZONE
TZID:Asia/Dubai
BEGIN:STANDARD
TZOFFSETFROM:+0400
TZOFFSETTO:+0400
TZNAME:+04
DTSTART:20240101T000000
END:STANDARD
END:VTIMEZONE
BEGIN:VEVENT
DTSTART;TZID=Asia/Dubai:20250918T090000
DTEND;TZID=Asia/Dubai:20250919T170000
DTSTAMP:20260420T142904
CREATED:20250914T063814Z
LAST-MODIFIED:20250914T063954Z
UID:4011-1758186000-1758301200@darpass.com
SUMMARY:Gateway to Europe
DESCRIPTION:Gateway to Europe: Armenia is almost here – and EBAN is proud to co-organise this unique two-day experience connecting European angel investors with one of the world’s fastest-growing tech ecosystems. https://gatewaytoeurope-armenia.eu/ \nWe’re excited to present two of the many amazing panels featuring leading voices from across Europe and Armenia:\nBuilding Trust and Accessing the Right Networks \nSpeakers: \n\nCyril Golub (LatBAN)\,\nMichel Rzonzef (LBAN)\,\nLauri Antalainen (EstBAN)\,\nSaviola Shahollari\,\nJean Christophe Goldenstein\n\nExploring how diaspora\, angel networks\, and accelerators can help founders overcome credibility barriers in cross-border fundraising.\nThe Role of Angels – Supporting Portfolio Companies \nModerator: Naré Gevorgyan (AICA)\nSpeakers: Thomas Mazejian (BANA Angels)\, Antons Sapriko\, Edgardo da Fonseca\, Albert Vogl-Bader\nGoing beyond capital – how angel investors provide mentorship\, open doors to networks\, and create long-term value for startups. \nGateway to Europe: Armenia\n18–19 September 2025 | Yerevan \nWhy Armenia? With unicorns like Picsart and ServiceTitan\, global players like NVIDIA and Synopsys on the ground\, and a tech sector growing at 52% annually\, Armenia is becoming a major innovation hub bridging Europe and Central Asia.\nCo-organised with: \n\nScience & Technology Angels Network (STAN)\,\nAngel Investor Club of Armenia (AICA)\,\nBANA Angels\nEBAN\, with support from the Ministry of Economy of Armenia\, funded by the Government of Armenia and the EU4Innovation East project\, funded by the European Union\, co-funded by the French Government and implemented by Expertise France.\n\nYou can find more tech events happening in Armenia here
URL:https://darpass.com/event/gateway-to-europe/
LOCATION:AI9\, 9 Isahakyan str.\, Yerevan\, Yerevan\, 0002\, Armenia
CATEGORIES:Conference,Tech Events In Armenia
ATTACH;FMTTYPE=image/jpeg:https://darpass.com/wp-content/uploads/2025/09/Gateway-to-Europe.jpg
END:VEVENT
END:VCALENDAR