BEGIN:VCALENDAR
VERSION:2.0
PRODID:-//Darpass - Your pass to Tech Armenia - ECPv6.15.17.1//NONSGML v1.0//EN
CALSCALE:GREGORIAN
METHOD:PUBLISH
X-WR-CALNAME:Darpass - Your pass to Tech Armenia
X-ORIGINAL-URL:https://darpass.com
X-WR-CALDESC:Events for Darpass - Your pass to Tech Armenia
REFRESH-INTERVAL;VALUE=DURATION:PT1H
X-Robots-Tag:noindex
X-PUBLISHED-TTL:PT1H
BEGIN:VTIMEZONE
TZID:Asia/Dubai
BEGIN:STANDARD
TZOFFSETFROM:+0400
TZOFFSETTO:+0400
TZNAME:+04
DTSTART:20240101T000000
END:STANDARD
END:VTIMEZONE
BEGIN:VEVENT
DTSTART;TZID=Asia/Dubai:20250630T190000
DTEND;TZID=Asia/Dubai:20250630T200000
DTSTAMP:20260420T122526
CREATED:20250612T074631Z
LAST-MODIFIED:20250612T074720Z
UID:3852-1751310000-1751313600@darpass.com
SUMMARY:BANA HR Hub June 2025 | My first 100 days as Startup HR
DESCRIPTION:BANA HR Hub June 2025 | My first 100 days as Startup HR \nBANA Angels x Magnus HR — Our first event is here! \nWe’re excited to officially launch BANA HR HUB and invite you to join us for our very first event!\nThe session will be led by Margarita Hovhannisyan\, Director of Talent Growth at EasyDMARC\, sharing insights from her first 100 days building HR at a startup—what worked\, what didn’t\, and key lessons for HRs and leaders in fast-growing teams. \nWho should attend?\n▸ Early-stage\, solo\, or first-time HRs in startups\n▸ Founders building their first People function\n▸ Talent/People managers transitioning into HR roles\n▸ Anyone curious about the real challenges of startup HR \nEvent Details\n▸ Date: June 30\n▸ Time: 19:00 (7 PM)\n▸ Duration: 1 hour\n▸ Location: The Factory\, 83 Koghbatsi St\, Yerevan \nThe event is free\, but registration is required via this link: https://forms.gle/o54uP8e6qVzMYeYK7\nLet’s kick things off and build a strong HR network together! \nYou can find more tech events happening in Armenia here
URL:https://darpass.com/event/bana-hr-hub-june-2025-my-first-100-days-as-startup-hr/
LOCATION:The Factory\, 83 Koghbatsi Str\, Yerevan\, Armenia
CATEGORIES:Tech Events In Armenia
ATTACH;FMTTYPE=image/jpeg:https://darpass.com/wp-content/uploads/2025/06/BANA-HR-Hub-June-2025.jpg
END:VEVENT
END:VCALENDAR