BEGIN:VCALENDAR
VERSION:2.0
PRODID:-//Darpass - Your pass to Tech Armenia - ECPv6.15.17.1//NONSGML v1.0//EN
CALSCALE:GREGORIAN
METHOD:PUBLISH
X-WR-CALNAME:Darpass - Your pass to Tech Armenia
X-ORIGINAL-URL:https://darpass.com
X-WR-CALDESC:Events for Darpass - Your pass to Tech Armenia
REFRESH-INTERVAL;VALUE=DURATION:PT1H
X-Robots-Tag:noindex
X-PUBLISHED-TTL:PT1H
BEGIN:VTIMEZONE
TZID:Asia/Dubai
BEGIN:STANDARD
TZOFFSETFROM:+0400
TZOFFSETTO:+0400
TZNAME:+04
DTSTART:20250101T000000
END:STANDARD
END:VTIMEZONE
BEGIN:VEVENT
DTSTART;TZID=Asia/Dubai:20260414T133000
DTEND;TZID=Asia/Dubai:20260414T193000
DTSTAMP:20260420T130014
CREATED:20260414T092815Z
LAST-MODIFIED:20260414T092815Z
UID:4546-1776173400-1776195000@darpass.com
SUMMARY:AI Onramp Info Session
DESCRIPTION:There are thousands of AI courses out there\, but the hands-on AI Onramp courses are designed for busy professionals who need immediate results. Maybe they’re the right ones for you?\nJoin us on Tuesday for an orientation session. We’ll go over the course catalog\, show you the facilities\, and help you understand the different formats. And we’ll answer any questions you have.\nAt TUMO Labs\, on April 14 at 13:30 or 19:30.\nFollow the link to register. \nFind more tech events happening in Armenia here
URL:https://darpass.com/event/ai-onramp-info-session/
LOCATION:TUMO Labs\, 2A Halabyan str\, Yerevan\, Armenia
CATEGORIES:Tech Events In Armenia
ATTACH;FMTTYPE=image/jpeg:https://darpass.com/wp-content/uploads/2026/04/AI-Onramp-Info-Session-e1776158691932.jpg
END:VEVENT
END:VCALENDAR