BEGIN:VCALENDAR
VERSION:2.0
PRODID:-//Darpass - Your pass to Tech Armenia - ECPv6.15.17.1//NONSGML v1.0//EN
CALSCALE:GREGORIAN
METHOD:PUBLISH
X-WR-CALNAME:Darpass - Your pass to Tech Armenia
X-ORIGINAL-URL:https://darpass.com
X-WR-CALDESC:Events for Darpass - Your pass to Tech Armenia
REFRESH-INTERVAL;VALUE=DURATION:PT1H
X-Robots-Tag:noindex
X-PUBLISHED-TTL:PT1H
BEGIN:VTIMEZONE
TZID:Asia/Dubai
BEGIN:STANDARD
TZOFFSETFROM:+0400
TZOFFSETTO:+0400
TZNAME:+04
DTSTART:20230101T000000
END:STANDARD
END:VTIMEZONE
BEGIN:VEVENT
DTSTART;TZID=Asia/Dubai:20241108T100000
DTEND;TZID=Asia/Dubai:20241110T170000
DTSTAMP:20260421T094802
CREATED:20241015T120234Z
LAST-MODIFIED:20241015T120234Z
UID:3265-1731060000-1731258000@darpass.com
SUMMARY:EdTech Hackathon
DESCRIPTION:Do you have an idea that could revolutionize education in Armenia?\nJoin the EdTech Hackathon by Garage48 and Impact Hub Yerevan and bring your ideas to life in just three days!\nWhen: November 8-10\, 2024\nWhere: Impact Hub Gyumri\, Gyumri (Shirakatsi 8/8)\nYouth from all over Armenia\, ages 16 to 30\, are welcome to apply! Whether you’re a high school student\, university attendee\, or young professional\, this is your opportunity to make a real impact on education. We’re calling on young talent from across Armenia to come together\, collaborate\, and create innovative solutions that can transform the future of learning. \nWhether you’re a developer\, designer\, EdTech enthusiast\, business visionary\, or student—we need your creativity! Create educational technology solutions\, learn from industry experts\, and help grow Armenia’s startup community. You will have the chance to gain hands-on experience\, develop 21st-century skills like leadership and creativity\, and connect with other passionate innovators. \nNo idea? No problem! We welcome anyone eager to make a difference in education. Team up\, create something amazing\, and compete for exciting prizes:\n1st Place: €2\,000\n2nd & 3rd Place: €1\,000 each\nAll winning teams will also receive mentorship to help take their projects further!\nReady to make an impact? Sign up now and be part of Armenia’s future. All shortlisted candidates will be contacted with further details. \nApply by October 15\, 11:59: https://4oyhceb7ur4.typeform.com/to/hP0fA9AQ\nFor more information: https://yerevan.impacthub.net/edtech_armenia_hackathon/\nDon’t miss your chance to change the way we learn! \nYou can find more tech events happening in Armenia here
URL:https://darpass.com/event/edtech-hackathon/
LOCATION:Impact Hub Gyumri\, 8/8 Shirakatsi Str.\, Gyumri\, Shirak\, Armenia
CATEGORIES:Tech Events In Armenia
ATTACH;FMTTYPE=image/jpeg:https://darpass.com/wp-content/uploads/2024/10/EdTech-Hackathon.jpg
END:VEVENT
END:VCALENDAR