BEGIN:VCALENDAR
VERSION:2.0
PRODID:-//Darpass - Your pass to Tech Armenia - ECPv6.15.17.1//NONSGML v1.0//EN
CALSCALE:GREGORIAN
METHOD:PUBLISH
X-ORIGINAL-URL:https://darpass.com
X-WR-CALDESC:Events for Darpass - Your pass to Tech Armenia
REFRESH-INTERVAL;VALUE=DURATION:PT1H
X-Robots-Tag:noindex
X-PUBLISHED-TTL:PT1H
BEGIN:VTIMEZONE
TZID:Asia/Dubai
BEGIN:STANDARD
TZOFFSETFROM:+0400
TZOFFSETTO:+0400
TZNAME:+04
DTSTART:20250101T000000
END:STANDARD
END:VTIMEZONE
BEGIN:VEVENT
DTSTART;TZID=Asia/Dubai:20260415T190000
DTEND;TZID=Asia/Dubai:20260415T203000
DTSTAMP:20260420T113419
CREATED:20260414T101741Z
LAST-MODIFIED:20260414T101741Z
UID:4555-1776279600-1776285000@darpass.com
SUMMARY:HackShabti - Cyber guerilla
DESCRIPTION:HackShabti – Cyber guerilla internet sabotage with dark nets\, leaks and markets \nA straightforward\, honest conversation about internet freedom from crypto-anarchism and cyber-guerilla ideas to the tools people use to stay independent online. We’ll break down what digital self-sovereignty really means and how these ideas are shaping the future of the internet. \n​In this session\, we’ll explore: \n​the growing split between regulated\, censored internet spaces and underground free-speech zones \n​how darknets\, alternative markets\, and information platforms are evolving \n​P2P networks as a way to bypass censorship and centralized control \n​the rise of the “sovereign individual” in a rapidly changing global landscape \n​parallel economies\, agorism\, and how crypto technologies shift power dynamics \n​This is not a typical tech talk expect bold ideas\, open discussion\, and perspectives you don’t usually hear in mainstream spaces. \n​About the Speaker\n​One of the earliest Bitcoin developers (since 2010)\, the speaker has been working at the intersection of privacy\, cryptography\, and decentralization for over a decade. \n​He contributed to early privacy innovations like CoinJoin and stealth addresses\, created libbitcoin\, and co-founded DarkWallet – one of the first privacy-focused Bitcoin wallets. \n​Beyond tech\, his background includes free software activism\, hacklabs across Europe\, and involvement in decentralized communities and initiatives. He is also the founder of AssangeDAO\, which raised $55M in support of Julian Assange. \n​Today\, he is building DarkFi – a layer-1 blockchain focused on anonymous applications\, including private payments\, messaging\, and decentralized finance. \n​Format: Talk + Discussion\nLanguage: English\nSpots are limited\, registration required. \nLocation\nCyHub Armenia – EIF Cybersecurity Initiative\nTeryan 105/1 National Polytechnic University of Armenia\, 10th building\, 6th floor\, Երևան 0009\, Armenia \nFind more tech events happening in Armenia here
URL:https://darpass.com/event/hackshabti-cyber-guerilla/
LOCATION:CyHub Armenia\, 105 Teryan Str.\, Yerevan\, Armenia
CATEGORIES:Meetup,Tech Events In Armenia
ATTACH;FMTTYPE=image/jpeg:https://darpass.com/wp-content/uploads/2026/04/HackShabti-Cyber-guerilla-scaled.jpg
END:VEVENT
END:VCALENDAR