BEGIN:VCALENDAR
VERSION:2.0
PRODID:-//Darpass - Your pass to Tech Armenia - ECPv6.15.17.1//NONSGML v1.0//EN
CALSCALE:GREGORIAN
METHOD:PUBLISH
X-ORIGINAL-URL:https://darpass.com
X-WR-CALDESC:Events for Darpass - Your pass to Tech Armenia
REFRESH-INTERVAL;VALUE=DURATION:PT1H
X-Robots-Tag:noindex
X-PUBLISHED-TTL:PT1H
BEGIN:VTIMEZONE
TZID:Asia/Dubai
BEGIN:STANDARD
TZOFFSETFROM:+0400
TZOFFSETTO:+0400
TZNAME:+04
DTSTART:20250101T000000
END:STANDARD
END:VTIMEZONE
BEGIN:VEVENT
DTSTART;TZID=Asia/Dubai:20260217T160000
DTEND;TZID=Asia/Dubai:20260217T173000
DTSTAMP:20260420T155654
CREATED:20260222T063443Z
LAST-MODIFIED:20260222T063443Z
UID:4337-1771344000-1771349400@darpass.com
SUMMARY:ServiceTitan and AUA: Industry-Academia Collaboration
DESCRIPTION:ServiceTitan and AUA: Industry-Academia Collaboration for Driving Innovation and Transforming Lives in Armenia\nAbout the Event: \nThe event\, titled “ServiceTitan and AUA: Industry-Academia Collaboration for Driving Innovation and Transforming Lives in Armenia\,” will be hosted by ACSE in collaboration with OSP&TT on February 17 at 4:00 p.m.\, in the 233W Conference Room\, PAB\, AUA. \nOver the last couple of years\, AUA has developed close collaboration with ServiceTitan. University faculty\, Dr. Habet Madoyan and Aram Butavyan led several research projects on sales automation that are supported by ServiceTitan. During this event\, the project team will present the history of collaboration and the major findings of research projects. Hosting an invited guest from ServiceTitan will also provide an excellent opportunity to discuss potential new avenues for collaboration. \n  \nAbout the Speaker: \nAram Butavyan is a lecturer at ACSE with expertise in machine learning and data-driven decision-making. His research focuses on applying machine learning and deep learning methods to problems in natural language processing\, computer vision\, and data-driven decision-making. \nDr. Habet Madoyan is an assistant professor and chair of the B.S. in Data Science program at ACSE\, specializing in machine learning\, predictive modeling\, and data visualization. \nThe event will also feature a special guest from ServiceTitan\, AUA alumnus and an experienced data scientist\, Arman Zakaryan (MSCIS ’20\, BSCS ’18)\, who serves as director of AI Engineering at ServiceTitan Armenia. \nWhen: February 17\, 4:00 pm – 5:00 pm\nWhere: Room 233W\, PAB \nLanguage: English \nRegistration: \nTo confirm your attendance\, please register here: https://docs.google.com/forms/d/e/1FAIpQLSfzeQhLUAWZbdQmT8HCUDxJ7WvSLj1IWxFY_G5QUka89v2_Jg \n  \nThird-party Sponsor: \nServiceTitan \nFind more tech events happening in Armenia here
URL:https://darpass.com/event/servicetitan-and-aua-industry-academia-collaboration/
LOCATION:American University of Armenia\, 40 Baghramyan Ave.\, Yerevan\, 0019\, Armenia
CATEGORIES:Tech Events In Armenia
ATTACH;FMTTYPE=image/jpeg:https://darpass.com/wp-content/uploads/2026/02/ServiceTitan-and-AUA-Industry-Academia-Collaboration.jpg
END:VEVENT
END:VCALENDAR