BEGIN:VCALENDAR
VERSION:2.0
PRODID:-//Darpass - Your pass to Tech Armenia - ECPv6.15.17.1//NONSGML v1.0//EN
CALSCALE:GREGORIAN
METHOD:PUBLISH
X-ORIGINAL-URL:https://darpass.com
X-WR-CALDESC:Events for Darpass - Your pass to Tech Armenia
REFRESH-INTERVAL;VALUE=DURATION:PT1H
X-Robots-Tag:noindex
X-PUBLISHED-TTL:PT1H
BEGIN:VTIMEZONE
TZID:Asia/Dubai
BEGIN:STANDARD
TZOFFSETFROM:+0400
TZOFFSETTO:+0400
TZNAME:+04
DTSTART:20250101T000000
END:STANDARD
END:VTIMEZONE
BEGIN:VEVENT
DTSTART;TZID=Asia/Dubai:20260228T120000
DTEND;TZID=Asia/Dubai:20260228T150000
DTSTAMP:20260419T195809
CREATED:20260221T085008Z
LAST-MODIFIED:20260221T085111Z
UID:4284-1772280000-1772290800@darpass.com
SUMMARY:ARDY Academy PublicTalk #2
DESCRIPTION:Well\, we are happy to share the details of PublicTalk #2\, dedicated to Data.\nJoin us as part of DataDay to talk about data\, from the times of the Pharaohs and Romans to the modern era of the AI.\nReserve your spot at https://ardy.am/en/course-registration/168 \nAgenda:\n12:00 – 13:00 | Tour of the Woods Center \n13:00 – 14:00 | Habet Madoyan\, Head of the Bachelor of Science in Data Science Program\, American University of Armenia\, Founder of Datamotus \nTopic: Data & Analytics: From Pharaohs to AI\nWhen you hear\, “Data is the new oil\,” don’t believe it. Data has always been oil\, even before the discovery of oil.\nA historical excursion into the history and origins of data\, analytics\, and statistical theory\, from the Pharaohs and Romans to the modern era of the Arab world. The cornerstones of the analytical process. \n14.00 – 15.00 | Artyom Gasparyan\, BI Architect & AWS Certified Engineer\, Senior BI Analyst\, EPAM Systems\nTopic: Data Renaissance: Envisioning tomorrow’s possibilities today\nDiscover the future of data and learn how new technologies are solving global challenges.\nLearn why imagination and vision are more important than technical skills in a data-driven world.\nLearn about career opportunities in the field: data engineer\, analyst\, engineer. \nFebruary 28\n12:00 – 15:00\nWoods Center \n  \nFind more tech events happening in Armenia here
URL:https://darpass.com/event/ardy-academy-publictalk-2/
LOCATION:Woods Center\, Near Jrvezh forest Park\, Jrvezh\, Kotayk
CATEGORIES:Meetup,Tech Events In Armenia
ATTACH;FMTTYPE=image/png:https://darpass.com/wp-content/uploads/2026/02/ARDY-Academy-Public-Talks-2.png
END:VEVENT
END:VCALENDAR