BEGIN:VCALENDAR
VERSION:2.0
PRODID:-//Darpass - Your pass to Tech Armenia - ECPv6.15.17.1//NONSGML v1.0//EN
CALSCALE:GREGORIAN
METHOD:PUBLISH
X-WR-CALNAME:Darpass - Your pass to Tech Armenia
X-ORIGINAL-URL:https://darpass.com
X-WR-CALDESC:Events for Darpass - Your pass to Tech Armenia
REFRESH-INTERVAL;VALUE=DURATION:PT1H
X-Robots-Tag:noindex
X-PUBLISHED-TTL:PT1H
BEGIN:VTIMEZONE
TZID:Asia/Dubai
BEGIN:STANDARD
TZOFFSETFROM:+0400
TZOFFSETTO:+0400
TZNAME:+04
DTSTART:20250101T000000
END:STANDARD
END:VTIMEZONE
BEGIN:VEVENT
DTSTART;TZID=Asia/Dubai:20260401T070000
DTEND;TZID=Asia/Dubai:20260401T210000
DTSTAMP:20260419T195636
CREATED:20260319T132213Z
LAST-MODIFIED:20260319T132213Z
UID:4428-1775026800-1775077200@darpass.com
SUMMARY:Mastering AI for Business Analysis
DESCRIPTION:Join the free info session and learn more about the “Mastering AI for Business Analysis։ From Market Research to MVP” program. \nAbout the Course\nThe goal of this course is to teach participants how to apply Artificial Intelligence (AI) across the full business analysis workflow — from market research to MVP development. \nDuring the course\, participants will explore modern AI tools and learn how to apply BABOK-aligned techniques to effectively conduct research\, define requirements\, model processes\, and develop business solutions. \nThe course is built on a hands-on approach. Participants will work with real examples and their own ideas\, finishing the course with a ready MVP concept. \nThe training is delivered by an experienced industry professional\, Yervand Malkhasyan\, who holds an international CBAP certification. \nFor more details\, please follow the link below. \nMastering AI for Business Analysis – From Market Research to MVP course description \nCourse Schedule \nClasses will be held twice a week\, each lasting 2 hours\, with a total duration of 2 months. \nDays: Monday and Thursday\nTime: 19:00 \nFree info session: 01.04.2026\nCourse start: 06.04.2026 \n———————————————— \nFor questions\, call: +374 77 451727 \nFind more tech events happening in Armenia here
URL:https://darpass.com/event/mastering-ai-for-business-analysis/
LOCATION:Impact Hub Yerevan\, 80 Tigran Mets Avenue\, Yerevan\, Yerevan\, 0005\, Armenia
CATEGORIES:Tech Events In Armenia,Workshops/Lessons
ATTACH;FMTTYPE=image/jpeg:https://darpass.com/wp-content/uploads/2026/03/Mastering-AI-for-Business-Analysis.jpg
END:VEVENT
END:VCALENDAR